BEGIN:VCALENDAR
VERSION:2.0
PRODID:-//1Life - ECPv6.15.20//NONSGML v1.0//EN
CALSCALE:GREGORIAN
METHOD:PUBLISH
X-WR-CALNAME:1Life
X-ORIGINAL-URL:https://crc1life.ca
X-WR-CALDESC:Events for 1Life
REFRESH-INTERVAL;VALUE=DURATION:PT1H
X-Robots-Tag:noindex
X-PUBLISHED-TTL:PT1H
BEGIN:VTIMEZONE
TZID:America/Vancouver
BEGIN:DAYLIGHT
TZOFFSETFROM:-0800
TZOFFSETTO:-0700
TZNAME:PDT
DTSTART:20250309T100000
END:DAYLIGHT
BEGIN:STANDARD
TZOFFSETFROM:-0700
TZOFFSETTO:-0800
TZNAME:PST
DTSTART:20251102T090000
END:STANDARD
BEGIN:DAYLIGHT
TZOFFSETFROM:-0800
TZOFFSETTO:-0700
TZNAME:PDT
DTSTART:20260308T100000
END:DAYLIGHT
BEGIN:STANDARD
TZOFFSETFROM:-0700
TZOFFSETTO:-0800
TZNAME:PST
DTSTART:20261101T090000
END:STANDARD
BEGIN:DAYLIGHT
TZOFFSETFROM:-0800
TZOFFSETTO:-0700
TZNAME:PDT
DTSTART:20270314T100000
END:DAYLIGHT
BEGIN:STANDARD
TZOFFSETFROM:-0700
TZOFFSETTO:-0800
TZNAME:PST
DTSTART:20271107T090000
END:STANDARD
END:VTIMEZONE
BEGIN:VEVENT
DTSTART;TZID=America/Vancouver:20260131T093000
DTEND;TZID=America/Vancouver:20260131T130000
DTSTAMP:20260425T141120
CREATED:20251210T235728Z
LAST-MODIFIED:20251210T235728Z
UID:10000511-1769851800-1769864400@crc1life.ca
SUMMARY:Border Walk and Prayer Pilgrimage
DESCRIPTION:Join the Journey Home community and other churches and agencies supporting refugees for a morning of learning\, reflection\, and solidarity at the Canada-US Border.
URL:https://crc1life.ca/event/border-walk-and-prayer-pilgrimage/
LOCATION:Peace Arch Provincial Park\, Arch Border\, BC-99\, Surrey\, BC\, V3S 9N8\, Canada
CATEGORIES:Mercy & Justice
ATTACH;FMTTYPE=image/jpeg:https://crc1life.ca/wp-content/uploads/Invitation-Border-Walk-Prayer-Pilgrimage.jpg
END:VEVENT
END:VCALENDAR